BEGIN:VCALENDAR
VERSION:2.0
PRODID:-//Alliance Française Accra - ECPv6.15.11//NONSGML v1.0//EN
CALSCALE:GREGORIAN
METHOD:PUBLISH
X-ORIGINAL-URL:https://afaccra.org
X-WR-CALDESC:Events for Alliance Française Accra
REFRESH-INTERVAL;VALUE=DURATION:PT1H
X-Robots-Tag:noindex
X-PUBLISHED-TTL:PT1H
BEGIN:VTIMEZONE
TZID:UTC
BEGIN:STANDARD
TZOFFSETFROM:+0000
TZOFFSETTO:+0000
TZNAME:UTC
DTSTART:20250101T000000
END:STANDARD
END:VTIMEZONE
BEGIN:VEVENT
DTSTART;TZID=UTC:20260221T160000
DTEND;TZID=UTC:20260221T230000
DTSTAMP:20260422T221659
CREATED:20260206T174254Z
LAST-MODIFIED:20260206T211240Z
UID:58695-1771689600-1771714800@afaccra.org
SUMMARY:Style of Ghana Fashion Show
DESCRIPTION:Style of Ghana – The 2nd Edition (2026)\nExperience an elegant celebration of Ghanaian fashion\, culture\, and creativity with Style of Ghana by D’Marsh’s highly anticipated second edition. Join designers\, creatives\, and fashion lovers for an evening of stunning runway showcases\, culture-rich designs\, and premium networking in an unforgettable atmosphere. For Ticket Dial *713*33*998#  \n Cocktail Reception: 4:00 PM | Main Showcase: 6:00 PM \nWhere tradition meets modern elegance. \n  \nDate: Saturday 21st February 2026 \nTime: 4pm \nVenue: Amphitheatre
URL:https://afaccra.org/event/style-of-ghana-fashion-show-2/
LOCATION:Alliance Francaise Accra\, Ghana
CATEGORIES:Culture Events,Event
ATTACH;FMTTYPE=image/jpeg:https://afaccra.org/wp-content/uploads/2026/02/SOG-26_Announcer.jpg
END:VEVENT
BEGIN:VEVENT
DTSTART;TZID=UTC:20260306T160000
DTEND;TZID=UTC:20260306T220000
DTSTAMP:20260422T221659
CREATED:20260304T203627Z
LAST-MODIFIED:20260304T204015Z
UID:58845-1772812800-1772834400@afaccra.org
SUMMARY:Makola Queens
DESCRIPTION:The skill. The finesse. The stalwarts: the women whose labour meant Nkrumah never had to touch the mucky business of financing the struggle for independence. \nOn 6th March\, join us at Alliance Francaise for the Live in Concert version of Makola Queens the musical. \n  \nWritten & directed by Poetra Asantewa and Nii Dromo Yartey\, featuring the Harmonious Chorale. \n  \nDate: Friday 6th March 2026 \nTime: 4pm \nVenue: Amphitheatre
URL:https://afaccra.org/event/makola-queens/
LOCATION:Alliance Francaise Accra\, Ghana
CATEGORIES:Culture Events,Event
ATTACH;FMTTYPE=image/jpeg:https://afaccra.org/wp-content/uploads/2026/03/MQ-6-March-scaled.jpg
END:VEVENT
BEGIN:VEVENT
DTSTART;VALUE=DATE:20260411
DTEND;VALUE=DATE:20260412
DTSTAMP:20260422T221659
CREATED:20260410T192153Z
LAST-MODIFIED:20260410T192153Z
UID:59187-1775865600-1775951999@afaccra.org
SUMMARY:Kermesse - Francophonie Festival 2026
DESCRIPTION:
URL:https://afaccra.org/event/kermesse-francophonie-festival-2026/
CATEGORIES:Culture Events,Francophonie
ATTACH;FMTTYPE=image/png:https://afaccra.org/wp-content/uploads/2026/04/Francophonie-Fair.png
END:VEVENT
BEGIN:VEVENT
DTSTART;TZID=UTC:20260411T190000
DTEND;TZID=UTC:20260411T233000
DTSTAMP:20260422T221659
CREATED:20260410T191745Z
LAST-MODIFIED:20260410T192535Z
UID:59180-1775934000-1775950200@afaccra.org
SUMMARY:CULTURAL NIGHT WITH EYAA - FRANCOPHONIE FESTIVAL 2026
DESCRIPTION:
URL:https://afaccra.org/event/cultural-night-with-eyaa-francophonie-festival-2026/
LOCATION:Alliance Francaise Accra\, Ghana
CATEGORIES:Culture Events,Francophonie
ATTACH;FMTTYPE=image/png:https://afaccra.org/wp-content/uploads/2026/04/Cultural-Night-with-Eyaa.png
END:VEVENT
BEGIN:VEVENT
DTSTART;VALUE=DATE:20260422
DTEND;VALUE=DATE:20260426
DTSTAMP:20260422T221659
CREATED:20260408T064636Z
LAST-MODIFIED:20260410T191012Z
UID:59135-1776816000-1777161599@afaccra.org
SUMMARY:Alliance Française Accra Jazz & World Music Festival 2026: Tickets Now Available!
DESCRIPTION:Alliance Française Accra is excited to announce the return of its flagship cultural event — the Jazz & World Music Festival 2026\, happening 22nd to 25th April 2026. \nFor over a decade\, Alliance Française Accra has been a vibrant home for live music\, and this year’s edition continues that legacy with an even richer celebration of jazz\, world music\, culture\, and community. \nExpect an exceptional blend of genre fusion\, powerful live performances\, and opportunities to learn and connect through workshops and masterclasses. The festival brings together outstanding local and international artists\, creating a truly inclusive experience that celebrates the universal language of music. \nThis year’s performing lineup brings together a vibrant mix of sounds and styles\, featuring Ghana’s beloved Adomaa and the high-energy Adaha Dance Band. Audiences can also look forward to dynamic sets from Victor Dey Jr.\, as well as special interludes by Ark Band and Malaika. Adding an international highlight to the weekend is Yehwe Yeton (Benin)\, Esinam & Sibusile (Belgium\, South Africa)\, and Tyson Meya (DR Congo)\, contributing to the festival’s signature blend of jazz and global musical expression. \n  \nFestival Programme Highlights\nWednesday\, 22nd April 2026 \nMusic Workshops (Seminar Room) A special day of learning and musical exploration. \nYewhe Yeton | 10:00am – 12:00pm \nAfrican musical heritage and contemporary creation \nEsinam & Sibusile | 1:00pm – 3:00pm \nMusic as Exploration \n  \nFriday\, 24th April 2026 \nConcert Night (Amphitheatre) \nArk Band (Interlude) | 6:30pm – 7:00pm \nYewhe Yeton | 7:00pm – 8:00pm \nAdomaa | 8:10pm – 9:10pm \nArk Band (Interlude) | 9:10pm – 9:40pm \nAdaha Dance Band | 9:40pm – 10:40pm \n  \nSaturday\, 25th April 2026 \nConcert Night (Amphitheatre) \nMalaika (Interlude) | 6:30pm – 7:00pm \nEsinam & Sibusile | 7:00pm – 8:00pm \nTyson Meya| 8:10pm – 9:10pm \nMalaika (Interlude) | 9:10pm – 9:40pm \nVictor Dey Jr. | 9:40pm – 10:40pm \n  \nTicket Information \nTickets are now available! \nSingle Night Pass: GHS 200 \nDouble-Night Pass: GHS 350 (save more when you attend both concert nights) \nTo purchase\, simply dial: *800*1010# \nFor full festival details\, visit: www.afaccra.org \n  \nWhether you’re a long-time jazz lover\, a fan of world music\, or simply looking for a unique cultural experience in Accra\, the Alliance Française Accra Jazz & World Music Festival 2026 promises unforgettable moments on and off the stage.We can’t wait to welcome you. \nSee you there!
URL:https://afaccra.org/event/afa-jazz-2026/
LOCATION:Alliance Francaise Accra\, Ghana
CATEGORIES:Culture Events,Event,Jazz Festival
ATTACH;FMTTYPE=image/png:https://afaccra.org/wp-content/uploads/2026/04/SOCIAL-MEDIA-MAIN-DESIGN-LQ-1.png
END:VEVENT
END:VCALENDAR