BEGIN:VCALENDAR
VERSION:2.0
PRODID:-//Alliance Française Accra - ECPv6.15.11//NONSGML v1.0//EN
CALSCALE:GREGORIAN
METHOD:PUBLISH
X-WR-CALNAME:Alliance Française Accra
X-ORIGINAL-URL:https://afaccra.org
X-WR-CALDESC:Events for Alliance Française Accra
REFRESH-INTERVAL;VALUE=DURATION:PT1H
X-Robots-Tag:noindex
X-PUBLISHED-TTL:PT1H
BEGIN:VTIMEZONE
TZID:UTC
BEGIN:STANDARD
TZOFFSETFROM:+0000
TZOFFSETTO:+0000
TZNAME:UTC
DTSTART:20240101T000000
END:STANDARD
END:VTIMEZONE
BEGIN:VEVENT
DTSTART;TZID=UTC:20251010T180000
DTEND;TZID=UTC:20251010T230000
DTSTAMP:20260423T094714
CREATED:20251002T140822Z
LAST-MODIFIED:20251002T140822Z
UID:56712-1760119200-1760137200@afaccra.org
SUMMARY:Healing Together Vigil 3.0
DESCRIPTION:Take a Break. Heal Together.\nJoin us for an evening of conversation\, reflection\, music and laughter as we stand against the stigma associated with mental health and heal together.  \nLet’s recharge\, reconnect\, and remind ourselves — we are never alone. \n#BelAquaTakeABreak \n  \nDate: Friday 10th October 2025 \nTime: 6pm \nVenue: Amphitheatre
URL:https://afaccra.org/event/healing-together-vigil-3-0/
LOCATION:Alliance Francaise Accra\, Ghana
CATEGORIES:Culture Events,Event
ATTACH;FMTTYPE=image/png:https://afaccra.org/wp-content/uploads/2025/10/healing-together-vigil-b.pdf-1.png
END:VEVENT
BEGIN:VEVENT
DTSTART;TZID=UTC:20251024T180000
DTEND;TZID=UTC:20251024T233000
DTSTAMP:20260423T094714
CREATED:20251002T143739Z
LAST-MODIFIED:20251003T122505Z
UID:56726-1761328800-1761348600@afaccra.org
SUMMARY:CroxIt Out Concert 2025: Beats for the Brave
DESCRIPTION:This October\, the CroxItOut Campaign returns with even greater impact as we present the CroxItOut Concert 2025 — a vibrant celebration of strength\, resilience\, and community in the fight against breast cancer. \nUnder the powerful theme "Beats For The Brave – Turning Up the Volume on Breast Cancer Awareness\," this year’s concert brings together some of Ghana’s finest female music artists\, DJs\, and dance groups for an unforgettable night of sound\, strength\, and solidarity. \nBut it’s more than just music. Throughout the concert grounds\, attendees will have access to free breast cancer screening services\, creating a safe\, supportive space where early detection is encouraged and accessible to all. \nAdding to the energy is our Pink Fair — a dynamic pop-up market spotlighting women-led businesses from across Ghana. From fashion and beauty to health and wellness products\, the fair offers attendees the chance to shop\, network\, and support female entrepreneurs who embody the very spirit of bravery and empowerment. \nThe CroxItOut Concert 2025 is not just an event — it's a movement. A movement to raise awareness\, promote early detection\, support survivors\, and celebrate the fearless women leading the charge. \nJoin us as we turn up the volume — for the brave\, for the fighters\, and for the future. CroxItOut Concert 2025 is powered by MX24TV in partnership with Alliance Francaise. \nTicket Purchase Link - https://mx24.app/CroxItOutConcert \nShortcode - *365*88*56# \n  \nDate: Friday 24th October 2025 \nTime: 6pm \nVenue: Amphitheatre
URL:https://afaccra.org/event/croxit-out-concert-2025-beats-for-the-brave/
CATEGORIES:Culture Events,Event
ATTACH;FMTTYPE=image/jpeg:https://afaccra.org/wp-content/uploads/2025/10/1-X-1-CROXITOUT-CONCERT-2025-1.jpg
END:VEVENT
BEGIN:VEVENT
DTSTART;TZID=UTC:20251105T100000
DTEND;TZID=UTC:20251107T235900
DTSTAMP:20260423T094714
CREATED:20251103T152427Z
LAST-MODIFIED:20251103T160339Z
UID:57727-1762336800-1762559940@afaccra.org
SUMMARY:Novembre Numérique 2025
DESCRIPTION:For the first time\, Ghana will  join the global celebration of  Novembre Numérique. Alliance Française d’Accra\, in\npartnership with Leti Arts are  hosting Ghana’s inaugural edition from 5th to 7th  November 2025 at Alliance\nFrançaise Accra. \nThe three-day festival features leading digital creators and organizations\, offering exhibitions\, discussions\, and\ninteractive experiences. It aims to inspire the next generation of digital experts and enthusiasts\, while strengthening Ghana’s growing digital and creative ecosystem.
URL:https://afaccra.org/event/novembre-numerique-2025/
LOCATION:Alliance Française d'Accra\, Accra\, Ghana
CATEGORIES:Culture Events,Event
ATTACH;FMTTYPE=image/png:https://afaccra.org/wp-content/uploads/2024/07/MAIN-POSTER-DESIGN-scaled.png
END:VEVENT
BEGIN:VEVENT
DTSTART;TZID=UTC:20251121T180000
DTEND;TZID=UTC:20251122T000000
DTSTAMP:20260423T094714
CREATED:20251114T091651Z
LAST-MODIFIED:20251114T091818Z
UID:57838-1763748000-1763769600@afaccra.org
SUMMARY:Alliance Française Accra Performing Arts Festival (AFPAF) 2025
DESCRIPTION:The Alliance Française Accra Performing Arts Festival (AFPAF 2025) is set to light up Accra on 21st & 22nd November 2025\, starting at 6PM each night. \nTwo nights. Endless creativity. Unforgettable performances. This is your chance to witness a celebration of music\, dance\, theatre\, and cultural brilliance — all on one stage. \nExpect the unexpected. Experience the extraordinary. Be part of a festival where art\, culture\, and energy collide. \nMark your calendars\, gather your friends\, and prepare to be amazed! \nBuy Tickets now via USSD: Dial *800*1010*1# and secure your spot today! \n\n\nAdults: 100 GHS \n\n\nStudents: 50 GHS (at the Gate) \n\n\nKids 12 & under: FREE \n\n\nDon’t wait\, be part of Accra’s most exciting performing arts celebration this year! \nDate: 21st & 22nd November 2025 \nTime: 6PM each night. \nVenue: Amphitheatre \n#AFPAF25 #afaccra #performingartsfestival #culture #alliancefrançaiseaccra #culturalevents #AccraVibes #anticipate
URL:https://afaccra.org/event/afpaf2025/
LOCATION:Alliance Française d'Accra\, Accra\, Ghana
CATEGORIES:AFPAF,Culture Events,Event
ATTACH;FMTTYPE=image/jpeg:https://afaccra.org/wp-content/uploads/2025/11/IG.jpg
END:VEVENT
BEGIN:VEVENT
DTSTART;TZID=UTC:20251205T200000
DTEND;TZID=UTC:20251206T230000
DTSTAMP:20260423T094714
CREATED:20251208T110250Z
LAST-MODIFIED:20251208T110250Z
UID:57891-1764964800-1765062000@afaccra.org
SUMMARY:SheRhythms Music Festival 2025
DESCRIPTION:She Rhythms Festival is Ghana's first-ever all-female music festival\, launched in 2025 as a collaboration between MUSIGA (Musicians Union of Ghana) and Alliance Française Accra\,powered by Ram Media Concepts. It is a three-day event scheduled from December 4 to 6\, It kicks off on Thursday\, December 4 at +233 Jazz Bar and Lounge and continues on December 5 and 6 at Alliance Française\, Accra. The festival celebrates female empowerment in music\, featuring live performances by prominent Ghanaian and international female artists\, mentorship opportunities\, collaborative sessions\, and networking platforms designed to support and amplify women&#39;s voices in the music industry. The She Rhythms Festical also aims to build sustainable career pathways for female musicians and address gender imbalances in the entertainment sector. \n  \nGate fee: GHC 50.00 \n\nDate: Friday 5th - Saturday 6th December 2025 \nTimes: 8pm \nVenue: Amphitheatre
URL:https://afaccra.org/event/sherhythms-festival-2025/
LOCATION:Alliance Française d'Accra\, Accra\, Ghana
CATEGORIES:Culture Events,Event
ATTACH;FMTTYPE=image/jpeg:https://afaccra.org/wp-content/uploads/2025/12/Musiga-Host-The-Biggest-1-1.jpg
END:VEVENT
BEGIN:VEVENT
DTSTART;TZID=UTC:20251211T180000
DTEND;TZID=UTC:20251211T180000
DTSTAMP:20260423T094714
CREATED:20251208T110837Z
LAST-MODIFIED:20251208T110837Z
UID:58199-1765476000-1765476000@afaccra.org
SUMMARY:DWP Concert
DESCRIPTION:DWP Concert ignites the Afrodance Culture Festival with high-energy choreography\, live Afrobeats rhythms\, and dynamic moments led by DWP Academy’s standout performers. The show promises a vibrant celebration of movement and culture. Happening on the 11th December 2025 from 6pm at the Alliance Francais\, Accra \n  \nDate: Thursday 11th December 2025 \nTime: 6pm \nVenue: Amphitheatre
URL:https://afaccra.org/event/dwp-concert/
CATEGORIES:Culture Events,Event
ATTACH;FMTTYPE=image/jpeg:https://afaccra.org/wp-content/uploads/2025/12/IMG_2024-1.jpeg
END:VEVENT
BEGIN:VEVENT
DTSTART;TZID=UTC:20251217T180000
DTEND;TZID=UTC:20251217T180000
DTSTAMP:20260423T094714
CREATED:20251208T111251Z
LAST-MODIFIED:20251208T111251Z
UID:58203-1765994400-1765994400@afaccra.org
SUMMARY:Yarti Juma Mufasa Show
DESCRIPTION:@Yartti  \n@jumaMufasa \nJuma Mufasa & Yartti Live is a live music concert hosted by Juma Mufasa andYartti with performances from Akan and The Village a group of 4. \n  \n  \nDate: Wednesday 17th December 2025 \nTime: 6pm \nVenue: Amphitheatre
URL:https://afaccra.org/event/yarti-juma-mufasa-show/
CATEGORIES:Culture Events,Event
ATTACH;FMTTYPE=image/jpeg:https://afaccra.org/wp-content/uploads/2025/12/yartti-juma-mufasa-1.jpg
END:VEVENT
BEGIN:VEVENT
DTSTART;TZID=UTC:20251218T183000
DTEND;TZID=UTC:20251218T183000
DTSTAMP:20260423T094714
CREATED:20251208T111748Z
LAST-MODIFIED:20251208T111748Z
UID:58207-1766082600-1766082600@afaccra.org
SUMMARY:There is Rice at Home - A Stage Play
DESCRIPTION:On the eve of his best friend's funeral\, a police officer comes face to face with a charming lady who introduces herself as Death. And like him\, she has questions begging for answers. There Is Rice At Home is a riveting story of friendship\, grief\, and love.  \nIn his theater debut\, director Joewackle J. Kusi makes a funny\, honest\, and witty critique of grief and Ghanaian funeral culture. With breathtaking performances by Senanu Gbedawo\, Adomaa\, Godwin Namboh and Gina Castel\, we are ushered into a fascinating experience of compelling storytelling\, music and dance with original music by Adomaa. Written by Joewackle J. Kusi & Inyang Edoho.  \nFirst Show: 6:30pm  \nSecond Show: 8:30pm \nGet tickets here \nDate: Thursday 18th December 2025 \nTime: 6:30pm \nVenue: Amphitheatre
URL:https://afaccra.org/event/there-is-rice-at-home-a-stage-play/
CATEGORIES:Culture Events,Event
ATTACH;FMTTYPE=image/jpeg:https://afaccra.org/wp-content/uploads/2025/12/There-Is-Rice-At-Home--scaled.jpg
END:VEVENT
BEGIN:VEVENT
DTSTART;TZID=UTC:20251220T180000
DTEND;TZID=UTC:20251220T180000
DTSTAMP:20260423T094714
CREATED:20251208T112121Z
LAST-MODIFIED:20251208T112121Z
UID:58212-1766253600-1766253600@afaccra.org
SUMMARY:Nimo Live
DESCRIPTION:AratheJay’s annual headline show returns this year on 20th December 2025 at Alliance Française. Fresh off the release of The Odyssey LP and the Odyssey Europe tour\, expect nothing but fireworks at this year’s edition in Accra. See you there. \n  \nDate: Saturday 20th December 2025 \nTime: 6pm \nVenue: Amphitheatre
URL:https://afaccra.org/event/nimo-live-2/
CATEGORIES:Culture Events,Event
ATTACH;FMTTYPE=image/jpeg:https://afaccra.org/wp-content/uploads/2025/12/Nimo-Live-Flyer-01-scaled.jpg
END:VEVENT
BEGIN:VEVENT
DTSTART;TZID=UTC:20260124T180000
DTEND;TZID=UTC:20260124T220000
DTSTAMP:20260423T094714
CREATED:20260114T194543Z
LAST-MODIFIED:20260123T094500Z
UID:58447-1769277600-1769292000@afaccra.org
SUMMARY:World Day for African & Afro-descendant Culture
DESCRIPTION:African Love Stories: Intimacy\, Choice & Freedom \n-  An evening of music & conversation  \nAs part of the commemoration of the World Day for African & Afro-descendant Culture\, Alliance Française is pleased to curate a special evening titled African Love Stories\, inspired by a reading from Ama Ata Aidoo’s Changes: A Love Story. \nThis roundtable conversation seeks to explore love as a universal yet deeply personal phenomenon\, as experienced\, imagined\, constrained\, and redefined within African contexts. Through literature\, lived experience\, and cultural reflection\, we hope to create an open and intimate discussion around intimacy\, choice\, freedom\, gender\, and the ways African love stories have evolved — and continue to evolve — across generations. \n  \nLove Stories Then & Now \nHow today’s African love stories differ: Dating apps\, Long-distance relationships\, Love across borders\, Economic pressures\, Are today’s love stories more free — or just more complicated? Who Gets to Tell African Love Stories? Literature vs. film vs. social media\, What kinds of love stories are still missing?
URL:https://afaccra.org/event/afro26/
CATEGORIES:Culture Events,Event
ATTACH;FMTTYPE=image/png:https://afaccra.org/wp-content/uploads/2026/01/World-Day-for-African-and-Afro-Descendant-Culture-3.png
END:VEVENT
BEGIN:VEVENT
DTSTART;TZID=UTC:20260130T180000
DTEND;TZID=UTC:20260220T220000
DTSTAMP:20260423T094714
CREATED:20260206T172353Z
LAST-MODIFIED:20260206T172353Z
UID:58687-1769796000-1771624800@afaccra.org
SUMMARY:Harmattan Photography Exhibition 2026
DESCRIPTION:Transitioning - Traces of Then and Now\nAn exhibition emerging from the Surf Ghana Harmattan Residency\, exploring memory\, movement\, and material. \nThrough compelling works\, artists reflect on the past and the present—revealing traces of what once was and what remains. \n📍 Alliance Française Accra\n🗓️ On view until 20th February 2026 \nStep in\, look closely\, and let the traces speak. \nDate: Friday 30th January (Launch); On view untill Friday 20th February 2026 \nVenue: Alliance Française Accra Seminar Room
URL:https://afaccra.org/event/harmattan-photography-exhibition-2026/
LOCATION:Alliance Francaise Accra\, Ghana
CATEGORIES:Culture Events,Event,Photo Exhibition
ATTACH;FMTTYPE=image/jpeg:https://afaccra.org/wp-content/uploads/2026/02/Transitioning.jpg
END:VEVENT
BEGIN:VEVENT
DTSTART;TZID=UTC:20260206T180000
DTEND;TZID=UTC:20260206T220000
DTSTAMP:20260423T094714
CREATED:20260206T173650Z
LAST-MODIFIED:20260206T173650Z
UID:58689-1770400800-1770415200@afaccra.org
SUMMARY:Ebofest Soft Launch
DESCRIPTION:Dear Family\, Friends\, and Supporters\, \nYou’re invited to the EBOFEST Soft Launch\, a special evening celebrating Ebo Taylor’s 90th birthday and officially launching the EBOFEST festival to global audiences ahead of the main celebration in Saltpond\, Ghana. \nTickets: https://jambotickets.com/events/b082f648-5b21-43ca-a8f7-85cdc34ac099 \nJoin us for live performances\, cultural tributes\, and a historic moment honoring one of Africa’s greatest musical legends. \n  \nDate: Friday 6th February 2026 \nTime: 6pm \nVenue: Amphitheatre
URL:https://afaccra.org/event/ebofest-soft-launch/
LOCATION:Alliance Francaise Accra\, Ghana
CATEGORIES:Culture Events,Event
ATTACH;FMTTYPE=image/png:https://afaccra.org/wp-content/uploads/2026/02/SOFT-LAUCH-QR-CODE-1.png
END:VEVENT
BEGIN:VEVENT
DTSTART;TZID=UTC:20260207T180000
DTEND;TZID=UTC:20260207T220000
DTSTAMP:20260423T094714
CREATED:20260206T173839Z
LAST-MODIFIED:20260206T173839Z
UID:58691-1770487200-1770501600@afaccra.org
SUMMARY:Shifters Premiere
DESCRIPTION:SHIFTERS is a gripping documentary film that follows the lives of individuals and communities on the frontlines of climate change and environmental issues. Through audio-visual education\, SHIFTERS seeks to transform statistics into stories\, bringing to life the struggles and hopes of communities most affected but least heard. \n  \n"The Earth\, Our Home" is also a set of animations targeted at children with the aim of educating and empowering children as environmental advocates. \n  \nThese audio-visuals highlight urgent environmental issues like clean cooking\, plastic waste\, illegal mining (galamsey)\, deforestation\, air pollution\, and environmental degradation\, showing both their dangers and the practical solutions. They are to inspire\, educate\, and empower audiences to take action against climate change and environmental issues. \n  \nPlease join the premiering of these 2 films on Saturday\, 7th February 2026 at Alliance Francaise\, Accra. \n  \nThe creation of the films were led by the Youth-NREG Green Creatives Petal of the Youth in Natural Resources & Environmental Governance (Youth-NREG) Platform. \n  \nDate: Saturday 7th February 2026 \nTime: 6:30pm \nVenue: Amphitheatre
URL:https://afaccra.org/event/shifters-premiere/
LOCATION:Alliance Francaise Accra\, Ghana
CATEGORIES:Culture Events,Event
ATTACH;FMTTYPE=image/jpeg:https://afaccra.org/wp-content/uploads/2026/02/Shifters-Flyer.jpeg
END:VEVENT
BEGIN:VEVENT
DTSTART;TZID=UTC:20260213T180000
DTEND;TZID=UTC:20260213T230000
DTSTAMP:20260423T094714
CREATED:20260206T174038Z
LAST-MODIFIED:20260206T174038Z
UID:58693-1771005600-1771023600@afaccra.org
SUMMARY:Aduberks Live in Concert
DESCRIPTION:In the tapestry of existence\, music is the thread that binds us. ADUBERKS\, alongside the Apogee Band  invites you to weave your story on 13/02/26 at Alliance Française d'Accra 6PM prompt . This concert is a Celebration of Life\, a Journey\, Meditation\, a shared breath and an echo of our collective soul. Come\, Be present\, and let the music resonate within you. Please also come through with your Loved Ones as we Gear up for Val’s Day \n  \nTickets: 50 GHC. \n  \nDate: Friday 13th February 2026 \nTime: 6pm \nVenue: Amphitheatre
URL:https://afaccra.org/event/aduberks-live-in-concert/
LOCATION:Alliance Francaise Accra\, Ghana
CATEGORIES:Culture Events,Event
ATTACH;FMTTYPE=image/jpeg:https://afaccra.org/wp-content/uploads/2026/02/WhatsApp-Image-2026-01-23-at-10.39.43.jpeg
END:VEVENT
BEGIN:VEVENT
DTSTART;TZID=UTC:20260221T160000
DTEND;TZID=UTC:20260221T230000
DTSTAMP:20260423T094714
CREATED:20260206T174254Z
LAST-MODIFIED:20260206T211240Z
UID:58695-1771689600-1771714800@afaccra.org
SUMMARY:Style of Ghana Fashion Show
DESCRIPTION:Style of Ghana – The 2nd Edition (2026)\nExperience an elegant celebration of Ghanaian fashion\, culture\, and creativity with Style of Ghana by D’Marsh’s highly anticipated second edition. Join designers\, creatives\, and fashion lovers for an evening of stunning runway showcases\, culture-rich designs\, and premium networking in an unforgettable atmosphere. For Ticket Dial *713*33*998#  \n Cocktail Reception: 4:00 PM | Main Showcase: 6:00 PM \nWhere tradition meets modern elegance. \n  \nDate: Saturday 21st February 2026 \nTime: 4pm \nVenue: Amphitheatre
URL:https://afaccra.org/event/style-of-ghana-fashion-show-2/
LOCATION:Alliance Francaise Accra\, Ghana
CATEGORIES:Culture Events,Event
ATTACH;FMTTYPE=image/jpeg:https://afaccra.org/wp-content/uploads/2026/02/SOG-26_Announcer.jpg
END:VEVENT
BEGIN:VEVENT
DTSTART;TZID=UTC:20260306T160000
DTEND;TZID=UTC:20260306T220000
DTSTAMP:20260423T094714
CREATED:20260304T203627Z
LAST-MODIFIED:20260304T204015Z
UID:58845-1772812800-1772834400@afaccra.org
SUMMARY:Makola Queens
DESCRIPTION:The skill. The finesse. The stalwarts: the women whose labour meant Nkrumah never had to touch the mucky business of financing the struggle for independence. \nOn 6th March\, join us at Alliance Francaise for the Live in Concert version of Makola Queens the musical. \n  \nWritten & directed by Poetra Asantewa and Nii Dromo Yartey\, featuring the Harmonious Chorale. \n  \nDate: Friday 6th March 2026 \nTime: 4pm \nVenue: Amphitheatre
URL:https://afaccra.org/event/makola-queens/
LOCATION:Alliance Francaise Accra\, Ghana
CATEGORIES:Culture Events,Event
ATTACH;FMTTYPE=image/jpeg:https://afaccra.org/wp-content/uploads/2026/03/MQ-6-March-scaled.jpg
END:VEVENT
BEGIN:VEVENT
DTSTART;VALUE=DATE:20260411
DTEND;VALUE=DATE:20260412
DTSTAMP:20260423T094714
CREATED:20260410T192153Z
LAST-MODIFIED:20260410T192153Z
UID:59187-1775865600-1775951999@afaccra.org
SUMMARY:Kermesse - Francophonie Festival 2026
DESCRIPTION:
URL:https://afaccra.org/event/kermesse-francophonie-festival-2026/
CATEGORIES:Culture Events,Francophonie
ATTACH;FMTTYPE=image/png:https://afaccra.org/wp-content/uploads/2026/04/Francophonie-Fair.png
END:VEVENT
BEGIN:VEVENT
DTSTART;TZID=UTC:20260411T190000
DTEND;TZID=UTC:20260411T233000
DTSTAMP:20260423T094714
CREATED:20260410T191745Z
LAST-MODIFIED:20260410T192535Z
UID:59180-1775934000-1775950200@afaccra.org
SUMMARY:CULTURAL NIGHT WITH EYAA - FRANCOPHONIE FESTIVAL 2026
DESCRIPTION:
URL:https://afaccra.org/event/cultural-night-with-eyaa-francophonie-festival-2026/
LOCATION:Alliance Francaise Accra\, Ghana
CATEGORIES:Culture Events,Francophonie
ATTACH;FMTTYPE=image/png:https://afaccra.org/wp-content/uploads/2026/04/Cultural-Night-with-Eyaa.png
END:VEVENT
BEGIN:VEVENT
DTSTART;VALUE=DATE:20260422
DTEND;VALUE=DATE:20260426
DTSTAMP:20260423T094714
CREATED:20260408T064636Z
LAST-MODIFIED:20260410T191012Z
UID:59135-1776816000-1777161599@afaccra.org
SUMMARY:Alliance Française Accra Jazz & World Music Festival 2026: Tickets Now Available!
DESCRIPTION:Alliance Française Accra is excited to announce the return of its flagship cultural event — the Jazz & World Music Festival 2026\, happening 22nd to 25th April 2026. \nFor over a decade\, Alliance Française Accra has been a vibrant home for live music\, and this year’s edition continues that legacy with an even richer celebration of jazz\, world music\, culture\, and community. \nExpect an exceptional blend of genre fusion\, powerful live performances\, and opportunities to learn and connect through workshops and masterclasses. The festival brings together outstanding local and international artists\, creating a truly inclusive experience that celebrates the universal language of music. \nThis year’s performing lineup brings together a vibrant mix of sounds and styles\, featuring Ghana’s beloved Adomaa and the high-energy Adaha Dance Band. Audiences can also look forward to dynamic sets from Victor Dey Jr.\, as well as special interludes by Ark Band and Malaika. Adding an international highlight to the weekend is Yehwe Yeton (Benin)\, Esinam & Sibusile (Belgium\, South Africa)\, and Tyson Meya (DR Congo)\, contributing to the festival’s signature blend of jazz and global musical expression. \n  \nFestival Programme Highlights\nWednesday\, 22nd April 2026 \nMusic Workshops (Seminar Room) A special day of learning and musical exploration. \nYewhe Yeton | 10:00am – 12:00pm \nAfrican musical heritage and contemporary creation \nEsinam & Sibusile | 1:00pm – 3:00pm \nMusic as Exploration \n  \nFriday\, 24th April 2026 \nConcert Night (Amphitheatre) \nArk Band (Interlude) | 6:30pm – 7:00pm \nYewhe Yeton | 7:00pm – 8:00pm \nAdomaa | 8:10pm – 9:10pm \nArk Band (Interlude) | 9:10pm – 9:40pm \nAdaha Dance Band | 9:40pm – 10:40pm \n  \nSaturday\, 25th April 2026 \nConcert Night (Amphitheatre) \nMalaika (Interlude) | 6:30pm – 7:00pm \nEsinam & Sibusile | 7:00pm – 8:00pm \nTyson Meya| 8:10pm – 9:10pm \nMalaika (Interlude) | 9:10pm – 9:40pm \nVictor Dey Jr. | 9:40pm – 10:40pm \n  \nTicket Information \nTickets are now available! \nSingle Night Pass: GHS 200 \nDouble-Night Pass: GHS 350 (save more when you attend both concert nights) \nTo purchase\, simply dial: *800*1010# \nFor full festival details\, visit: www.afaccra.org \n  \nWhether you’re a long-time jazz lover\, a fan of world music\, or simply looking for a unique cultural experience in Accra\, the Alliance Française Accra Jazz & World Music Festival 2026 promises unforgettable moments on and off the stage.We can’t wait to welcome you. \nSee you there!
URL:https://afaccra.org/event/afa-jazz-2026/
LOCATION:Alliance Francaise Accra\, Ghana
CATEGORIES:Culture Events,Event,Jazz Festival
ATTACH;FMTTYPE=image/png:https://afaccra.org/wp-content/uploads/2026/04/SOCIAL-MEDIA-MAIN-DESIGN-LQ-1.png
END:VEVENT
END:VCALENDAR