BEGIN:VCALENDAR
VERSION:2.0
PRODID:-//Alliance Française Accra - ECPv6.15.11//NONSGML v1.0//EN
CALSCALE:GREGORIAN
METHOD:PUBLISH
X-ORIGINAL-URL:https://afaccra.org
X-WR-CALDESC:Events for Alliance Française Accra
REFRESH-INTERVAL;VALUE=DURATION:PT1H
X-Robots-Tag:noindex
X-PUBLISHED-TTL:PT1H
BEGIN:VTIMEZONE
TZID:UTC
BEGIN:STANDARD
TZOFFSETFROM:+0000
TZOFFSETTO:+0000
TZNAME:UTC
DTSTART:20240101T000000
END:STANDARD
END:VTIMEZONE
BEGIN:VEVENT
DTSTART;TZID=UTC:20251024T180000
DTEND;TZID=UTC:20251024T233000
DTSTAMP:20260422T221405
CREATED:20251002T143739Z
LAST-MODIFIED:20251003T122505Z
UID:56726-1761328800-1761348600@afaccra.org
SUMMARY:CroxIt Out Concert 2025: Beats for the Brave
DESCRIPTION:This October\, the CroxItOut Campaign returns with even greater impact as we present the CroxItOut Concert 2025 — a vibrant celebration of strength\, resilience\, and community in the fight against breast cancer. \nUnder the powerful theme "Beats For The Brave – Turning Up the Volume on Breast Cancer Awareness\," this year’s concert brings together some of Ghana’s finest female music artists\, DJs\, and dance groups for an unforgettable night of sound\, strength\, and solidarity. \nBut it’s more than just music. Throughout the concert grounds\, attendees will have access to free breast cancer screening services\, creating a safe\, supportive space where early detection is encouraged and accessible to all. \nAdding to the energy is our Pink Fair — a dynamic pop-up market spotlighting women-led businesses from across Ghana. From fashion and beauty to health and wellness products\, the fair offers attendees the chance to shop\, network\, and support female entrepreneurs who embody the very spirit of bravery and empowerment. \nThe CroxItOut Concert 2025 is not just an event — it's a movement. A movement to raise awareness\, promote early detection\, support survivors\, and celebrate the fearless women leading the charge. \nJoin us as we turn up the volume — for the brave\, for the fighters\, and for the future. CroxItOut Concert 2025 is powered by MX24TV in partnership with Alliance Francaise. \nTicket Purchase Link - https://mx24.app/CroxItOutConcert \nShortcode - *365*88*56# \n  \nDate: Friday 24th October 2025 \nTime: 6pm \nVenue: Amphitheatre
URL:https://afaccra.org/event/croxit-out-concert-2025-beats-for-the-brave/
CATEGORIES:Culture Events,Event
ATTACH;FMTTYPE=image/jpeg:https://afaccra.org/wp-content/uploads/2025/10/1-X-1-CROXITOUT-CONCERT-2025-1.jpg
END:VEVENT
END:VCALENDAR