BEGIN:VCALENDAR
VERSION:2.0
PRODID:-//Alliance Française Accra - ECPv6.15.11//NONSGML v1.0//EN
CALSCALE:GREGORIAN
METHOD:PUBLISH
X-ORIGINAL-URL:https://afaccra.org
X-WR-CALDESC:Events for Alliance Française Accra
REFRESH-INTERVAL;VALUE=DURATION:PT1H
X-Robots-Tag:noindex
X-PUBLISHED-TTL:PT1H
BEGIN:VTIMEZONE
TZID:UTC
BEGIN:STANDARD
TZOFFSETFROM:+0000
TZOFFSETTO:+0000
TZNAME:UTC
DTSTART:20240101T000000
END:STANDARD
END:VTIMEZONE
BEGIN:VEVENT
DTSTART;TZID=UTC:20250926T193000
DTEND;TZID=UTC:20250926T233000
DTSTAMP:20260422T234913
CREATED:20250831T195114Z
LAST-MODIFIED:20250831T195114Z
UID:56371-1758915000-1758929400@afaccra.org
SUMMARY:Riohs Joie de Vivre
DESCRIPTION:The Desire For Self Expression Through A Collective Display Of Looks From Our 6 Months Students. \nA Night Of Fashion Design\,Runway and Music. \n  \nDate: Friday 26th September 2025 \nTime: 7:30pm \nVenue: Amphitheatre
URL:https://afaccra.org/event/riohs-joie-de-vivre-2/
LOCATION:Alliance Francaise Accra\, Ghana
CATEGORIES:Culture Events,Event
ATTACH;FMTTYPE=image/jpeg:https://afaccra.org/wp-content/uploads/2025/05/Riohs-JDV-artwork-1.jpg
END:VEVENT
END:VCALENDAR