BEGIN:VCALENDAR
VERSION:2.0
PRODID:-//Alliance Française Accra - ECPv6.15.11//NONSGML v1.0//EN
CALSCALE:GREGORIAN
METHOD:PUBLISH
X-ORIGINAL-URL:https://afaccra.org
X-WR-CALDESC:Events for Alliance Française Accra
REFRESH-INTERVAL;VALUE=DURATION:PT1H
X-Robots-Tag:noindex
X-PUBLISHED-TTL:PT1H
BEGIN:VTIMEZONE
TZID:UTC
BEGIN:STANDARD
TZOFFSETFROM:+0000
TZOFFSETTO:+0000
TZNAME:UTC
DTSTART:20240101T000000
END:STANDARD
END:VTIMEZONE
BEGIN:VEVENT
DTSTART;VALUE=DATE:20250704
DTEND;VALUE=DATE:20250706
DTSTAMP:20260423T034313
CREATED:20250703T131348Z
LAST-MODIFIED:20250703T131348Z
UID:55958-1751587200-1751759999@afaccra.org
SUMMARY:INTERNATIONAL AMOFEST 2025
DESCRIPTION:Experience the Heartbeat of Global Sound at The International AmoFest 2025\nEach year in the heart of Accra\, The International AmoFest gathers lovers of\nauthentic music and culture for an unforgettable celebration of rhythm\,\nheritage\, and global artistry. Curated by renowned Ghanaian folk-fusion artist\nBerima Amo\, this annual music festival is a vibrant showcase of Highlife\,\nethnojazz\, and contemporary global sounds—blending tradition with\ninnovation on one electrifying stage. \nThis year’s edition of AmoFest kicks off with a Music Seminar on Friday\, 4th\nJuly 2025 at Alliance Française\, Accra from 9:00 AM\, offering a space for\nmusicians\, creatives\, and cultural thinkers to engage in meaningful\nconversations around music\, identity\, and innovation. \nThe celebration continues with the main concert on Saturday\, 5th July 2025\nat 6:00 PM\, also at Alliance Française. The concert promises a stellar lineup of\nboundary-pushing and soul-stirring performers\, including:\nBerima Amo – Highlife fusion at its finest\nKotokid – Amazing storytelling through sound\nEbony Winter – Smooth\, soulful and bold\nKwanpa – Masters of authentic Ghanaian palmwine music\nAce Ankomah – The literary mind turned lyrical force\nSantrofi – Highlife’s young torchbearers with global acclaim \nAt its core\, AmoFest is more than a music event—it’s a movement. It’s a\nplatform for cultural exchange\, a stage for diverse voices\, and a home for\nsounds that connect the world. From traditional African rhythms to modern\nglobal fusions\, the festival echoes Berima Amo’s artistic mission: to preserve\nthe past\, reimagine the present\, and inspire the future of music.\nJoin us at AmoFest 2025 and experience the power of music to unite\, uplift\,\nand transform. \nDates: \nFriday 4th July 2025 - Music Seminar\nTime: 9am \nSaturday 5th July 2025 - Int'l Amofest\nTime: 6pm \nVenue: Alliance Française\, d'Accra
URL:https://afaccra.org/event/international-amofest-2025/
LOCATION:Alliance Francaise Accra\, Ghana
CATEGORIES:Culture Events,Event
ATTACH;FMTTYPE=image/jpeg:https://afaccra.org/wp-content/uploads/2025/07/Amofest2025.jpg
END:VEVENT
END:VCALENDAR