BEGIN:VCALENDAR
VERSION:2.0
PRODID:-//Alliance Française Accra - ECPv6.15.11//NONSGML v1.0//EN
CALSCALE:GREGORIAN
METHOD:PUBLISH
X-ORIGINAL-URL:https://afaccra.org
X-WR-CALDESC:Events for Alliance Française Accra
REFRESH-INTERVAL;VALUE=DURATION:PT1H
X-Robots-Tag:noindex
X-PUBLISHED-TTL:PT1H
BEGIN:VTIMEZONE
TZID:UTC
BEGIN:STANDARD
TZOFFSETFROM:+0000
TZOFFSETTO:+0000
TZNAME:UTC
DTSTART:20240101T000000
END:STANDARD
END:VTIMEZONE
BEGIN:VEVENT
DTSTART;TZID=UTC:20250509T180000
DTEND;TZID=UTC:20250509T210000
DTSTAMP:20260423T051624
CREATED:20250515T105051Z
LAST-MODIFIED:20250515T105051Z
UID:55420-1746813600-1746824400@afaccra.org
SUMMARY:The Adamfopa Talent Quest Show / Unveiling Ghana Experience Concert
DESCRIPTION:The Adamfopa Talent Quest Show / Unveiling Ghana Experience Concert is a unique creative platform designed to discover and nurture young African talent across Europe and the diaspora. Its mission is to harness the artistic potential of Africans living abroad\, helping them reconnect with their cultural roots through the power of the arts — including music\, dance\, poetry\, comedy\, and more.\nJoin us for the Official Launching Ceremony of the Adamfopa Talent Quest Show / Unveiling Ghana Experience Concert — a night of pure entertainment and cultural celebration! \nGet ready for thrilling live performances by top artists including Besa Simons\, Jupitar\, Samini\, Kelvyn Boy\, and DanceGod Lloyd\, with laughter guaranteed by the hilarious Clemento Suarez!\nCome witness the birth of a platform dedicated to unearthing real Ghanaian talent — alongside VIP dignitaries and industry leaders. \nDon’t miss this unforgettable night of music\, culture\, and inspiration!\n#AdamfopaLaunch #UnveilingGhana #TalentQuest2025
URL:https://afaccra.org/event/the-adamfopa-talent-quest-show-unveiling-ghana-experience-concert/
LOCATION:Alliance Francaise Accra\, Ghana
CATEGORIES:Culture Events,Event
ATTACH;FMTTYPE=image/jpeg:https://afaccra.org/wp-content/uploads/2025/05/Group-Act-flyer.jpeg
END:VEVENT
END:VCALENDAR