BEGIN:VCALENDAR
VERSION:2.0
PRODID:-//Alliance Française Accra - ECPv6.15.11//NONSGML v1.0//EN
CALSCALE:GREGORIAN
METHOD:PUBLISH
X-WR-CALNAME:Alliance Française Accra
X-ORIGINAL-URL:https://afaccra.org
X-WR-CALDESC:Events for Alliance Française Accra
REFRESH-INTERVAL;VALUE=DURATION:PT1H
X-Robots-Tag:noindex
X-PUBLISHED-TTL:PT1H
BEGIN:VTIMEZONE
TZID:UTC
BEGIN:STANDARD
TZOFFSETFROM:+0000
TZOFFSETTO:+0000
TZNAME:UTC
DTSTART:20240101T000000
END:STANDARD
END:VTIMEZONE
BEGIN:VEVENT
DTSTART;TZID=UTC:20250502T193000
DTEND;TZID=UTC:20250502T220000
DTSTAMP:20260423T051344
CREATED:20250515T104538Z
LAST-MODIFIED:20250515T104539Z
UID:55411-1746214200-1746223200@afaccra.org
SUMMARY:Riohs Joie de Vivre
DESCRIPTION:The Desire For Self Expression Through A Collective Display Of Looks From Our 6 Months Students. \nA Night Of Fashion Design\, Runway and Music. \nDate: Friday 2nd May 2025\nTime: 7:30pm\nVenue: Amphitheatre
URL:https://afaccra.org/event/riohs-joie-de-vivre/
LOCATION:Alliance Francaise Accra\, Ghana
CATEGORIES:Culture Events,Event
ATTACH;FMTTYPE=image/jpeg:https://afaccra.org/wp-content/uploads/2025/05/Riohs-JDV-artwork-1.jpg
END:VEVENT
END:VCALENDAR