BEGIN:VCALENDAR
VERSION:2.0
PRODID:-//Alliance Française Accra - ECPv6.15.11//NONSGML v1.0//EN
CALSCALE:GREGORIAN
METHOD:PUBLISH
X-ORIGINAL-URL:https://afaccra.org
X-WR-CALDESC:Events for Alliance Française Accra
REFRESH-INTERVAL;VALUE=DURATION:PT1H
X-Robots-Tag:noindex
X-PUBLISHED-TTL:PT1H
BEGIN:VTIMEZONE
TZID:UTC
BEGIN:STANDARD
TZOFFSETFROM:+0000
TZOFFSETTO:+0000
TZNAME:UTC
DTSTART:20240101T000000
END:STANDARD
END:VTIMEZONE
BEGIN:VEVENT
DTSTART;TZID=UTC:20250804T180000
DTEND;TZID=UTC:20250804T180000
DTSTAMP:20260423T011305
CREATED:20250729T111902Z
LAST-MODIFIED:20250729T113101Z
UID:56144-1754330400-1754330400@afaccra.org
SUMMARY:Accra Indie Film Festival 2025
DESCRIPTION:The Accra Indie Filmfest returns with its 7th edition scheduled for 4th to 9th August 2025\, with all festival’s curated programmed to be held at the Alliance Française\, Accra. Under the visionary theme “Disruption – Visions of Tomorrow\,” this year’s edition invites audiences to experience stories that challenge norms\, reimagine possibilities\, and spotlight bold new voices in filmmaking. \nThe 2025 edition of the festival showcases a total of 56 short films from 33 countries\, offering a compelling and diverse mix of animation\, narrative works\, music videos\, documentaries\, student films\, and digital stories. These curated selections reflect the rapidly evolving landscape of global cinema\, highlighting both emerging talent and seasoned creatives who are redefining the boundaries of film. \nBeyond film screenings\, AiF 2025 presents an immersive week-long programme filled with masterclasses\, creative education fair\, industry conversations\, AiF Talent Connect\, AiF Music Synergy Concert\, and awards ceremonies. These events are designed to foster dialogue\, collaboration\, and creative exchange among filmmakers\, industry professionals\, and audiences from around the world. \nThe festival will officially open on Monday\, 4th August at 6:00 PM with a vibrant\nceremony that sets the tone for a dynamic week of storytelling\, networking\, and celebration.\nAs always\, the Alliance Française serves as the perfect cultural space to host this exciting convergence of cinema\, creativity\, and community.\nWhether you&#39;re a film enthusiast\, industry insider\, or curious observer\, the 7th edition of AiF promises a powerful experience not to be missed. \nAttendance is FREE but you will have to reserve your ticket using the link here: https://egotickets.com/events/accra-indie-filmfest-2025 \nDate: Monday 4th - Saturday 9th August 2025 \n  \nEvent Calender:
URL:https://afaccra.org/event/accra-indie-film-festival-2025/
LOCATION:Alliance Francaise Accra\, Ghana
CATEGORIES:Culture Events,Event
ATTACH;FMTTYPE=image/jpeg:https://afaccra.org/wp-content/uploads/2025/07/Accra-Indie-Filmfest-2025-Main-.jpg
END:VEVENT
BEGIN:VEVENT
DTSTART;TZID=UTC:20250829T060000
DTEND;TZID=UTC:20250829T220000
DTSTAMP:20260423T011305
CREATED:20250829T164232Z
LAST-MODIFIED:20250829T164232Z
UID:56354-1756447200-1756504800@afaccra.org
SUMMARY:SheRhythms Ghana Launch Event
DESCRIPTION:Get ready! She Rhythms Festival Ghana launches this Friday\, August 29th at Alliance Française Accra.\nAs the country's premier all-women music festival\, She Rhythms is a powerful celebration dedicated to amplifying the voices and showcasing the incredible creativity of women in music. Join us for a launch event filled with previews and announcements.⁠\n⁠\nThis kickoff at Alliance Française Accra is just the beginning. Mark your calendars for the full festival experience this December 4th-6th\, 2025.⁠\n⁠\nBe there! \nShe Rhythms Festival Ghana is an initiative and a key highlight of MUSIGA’s Golden\nJubilee Celebrations. It is envisioned as Ghana’s premier all-women music festival\,\nscheduled to take place from Thursday\, December 4 to Saturday\, 6 December 2025.\nThe festival will celebrate and amplify the voices\, creativity\, and achievements of\nwomen in music and will feature music concerts\, masterclasses and workshops\namong others. It aims to showcase both local and international female talents while\npromoting Ghanaian culture and tourism to a global audience.
URL:https://afaccra.org/event/sherhythms-ghana-launch-event/
CATEGORIES:Culture Events,Event
ATTACH;FMTTYPE=image/jpeg:https://afaccra.org/wp-content/uploads/2025/08/SheRythms_flyer_wide-scaled.jpg
END:VEVENT
BEGIN:VEVENT
DTSTART;VALUE=DATE:20250830
DTEND;VALUE=DATE:20250831
DTSTAMP:20260423T011305
CREATED:20250729T112649Z
LAST-MODIFIED:20250807T141141Z
UID:56165-1756512000-1756598399@afaccra.org
SUMMARY:Augustt in August Concert
DESCRIPTION:Get ready to experience a night where music transforms into a powerful tribute to Ghanaian women! “Augustt in August”\, hosted by the sensational Susan August. \nThis is not just a concert—it's a vibrant movement celebrating creativity and\nempowerment. This year’s event will also serve as the launch for her highly\nanticipated EP “3Sixty”\, set for release on August 27th. With a captivating theme of ‘Women\, Their Crown\, and Earth\,’ the concert promises to blend sound\, stunning visual art\, and contemporary dance. It’s a unique platform for female artists\, including one artist from this year’s “Own That Stage”. All backed by her full 10- piece band\, Adorkor. Susan Augustt will also perform with an Orchestra and/or Brass band.\nYou would have to come to experience it.\nJoin us in this celebration of talent\, sisterhood\, and artistic expression \nTicket Link - https://veetickets.com/ev/BuyTicket/1983 \nDate: Saturday 30th August 2025\nTime: 6pm\nVenue: Amphitheatre
URL:https://afaccra.org/event/augustt-in-august-concert/
LOCATION:Alliance Francaise Accra\, Ghana
CATEGORIES:Culture Events,Event
ATTACH;FMTTYPE=image/jpeg:https://afaccra.org/wp-content/uploads/2025/07/Augustt-in-August-Concert-1.jpg
END:VEVENT
END:VCALENDAR