BEGIN:VCALENDAR
VERSION:2.0
PRODID:-//Alliance Française Accra - ECPv6.15.11//NONSGML v1.0//EN
CALSCALE:GREGORIAN
METHOD:PUBLISH
X-WR-CALNAME:Alliance Française Accra
X-ORIGINAL-URL:https://afaccra.org
X-WR-CALDESC:Events for Alliance Française Accra
REFRESH-INTERVAL;VALUE=DURATION:PT1H
X-Robots-Tag:noindex
X-PUBLISHED-TTL:PT1H
BEGIN:VTIMEZONE
TZID:UTC
BEGIN:STANDARD
TZOFFSETFROM:+0000
TZOFFSETTO:+0000
TZNAME:UTC
DTSTART:20240101T000000
END:STANDARD
END:VTIMEZONE
BEGIN:VEVENT
DTSTART;VALUE=DATE:20250704
DTEND;VALUE=DATE:20250706
DTSTAMP:20260423T011114
CREATED:20250703T131348Z
LAST-MODIFIED:20250703T131348Z
UID:55958-1751587200-1751759999@afaccra.org
SUMMARY:INTERNATIONAL AMOFEST 2025
DESCRIPTION:Experience the Heartbeat of Global Sound at The International AmoFest 2025\nEach year in the heart of Accra\, The International AmoFest gathers lovers of\nauthentic music and culture for an unforgettable celebration of rhythm\,\nheritage\, and global artistry. Curated by renowned Ghanaian folk-fusion artist\nBerima Amo\, this annual music festival is a vibrant showcase of Highlife\,\nethnojazz\, and contemporary global sounds—blending tradition with\ninnovation on one electrifying stage. \nThis year’s edition of AmoFest kicks off with a Music Seminar on Friday\, 4th\nJuly 2025 at Alliance Française\, Accra from 9:00 AM\, offering a space for\nmusicians\, creatives\, and cultural thinkers to engage in meaningful\nconversations around music\, identity\, and innovation. \nThe celebration continues with the main concert on Saturday\, 5th July 2025\nat 6:00 PM\, also at Alliance Française. The concert promises a stellar lineup of\nboundary-pushing and soul-stirring performers\, including:\nBerima Amo – Highlife fusion at its finest\nKotokid – Amazing storytelling through sound\nEbony Winter – Smooth\, soulful and bold\nKwanpa – Masters of authentic Ghanaian palmwine music\nAce Ankomah – The literary mind turned lyrical force\nSantrofi – Highlife’s young torchbearers with global acclaim \nAt its core\, AmoFest is more than a music event—it’s a movement. It’s a\nplatform for cultural exchange\, a stage for diverse voices\, and a home for\nsounds that connect the world. From traditional African rhythms to modern\nglobal fusions\, the festival echoes Berima Amo’s artistic mission: to preserve\nthe past\, reimagine the present\, and inspire the future of music.\nJoin us at AmoFest 2025 and experience the power of music to unite\, uplift\,\nand transform. \nDates: \nFriday 4th July 2025 - Music Seminar\nTime: 9am \nSaturday 5th July 2025 - Int'l Amofest\nTime: 6pm \nVenue: Alliance Française\, d'Accra
URL:https://afaccra.org/event/international-amofest-2025/
LOCATION:Alliance Francaise Accra\, Ghana
CATEGORIES:Culture Events,Event
ATTACH;FMTTYPE=image/jpeg:https://afaccra.org/wp-content/uploads/2025/07/Amofest2025.jpg
END:VEVENT
BEGIN:VEVENT
DTSTART;VALUE=DATE:20250725
DTEND;VALUE=DATE:20250726
DTSTAMP:20260423T011114
CREATED:20250703T132627Z
LAST-MODIFIED:20250703T132735Z
UID:55976-1753401600-1753487999@afaccra.org
SUMMARY:Koshka Sound Residency
DESCRIPTION:It's another edition of the Koshka Sound Residency brought to you by Black Girls Glow\, in partnership with Alliance Francaise d'Accra! Come discover new and exciting women artists creating melodies and sounds that will blow you away! \nDate: Friday 25th July 2025\nVenue: La Paillotte\, Alliance Française d'Accra\nTime: 7pm
URL:https://afaccra.org/event/koshka-sound-residency/
LOCATION:Alliance Francaise Accra\, Ghana
CATEGORIES:Culture Events,Event
ATTACH;FMTTYPE=image/jpeg:https://afaccra.org/wp-content/uploads/2025/07/KOSHKA-ACCRA-CONCERT-scaled.jpg
END:VEVENT
BEGIN:VEVENT
DTSTART;TZID=UTC:20250802T190000
DTEND;TZID=UTC:20250802T190000
DTSTAMP:20260423T011114
CREATED:20250729T105253Z
LAST-MODIFIED:20250729T105253Z
UID:56139-1754161200-1754161200@afaccra.org
SUMMARY:Fire & Flow 3 Concert
DESCRIPTION:Lali x Lola are award-winning\, genre-bending trailblazers reshaping Ghana's urban music scene. Their vibrant sound fuses Afrobeats\, Pop\, & soulful rhythms\, creating a dynamic & unpredictable listening experience. Known for their catchy melodies & electrifying performances\, they effortlessly blend traditional Ghanaian vibes with global music influences\, crafting tracks that move both hearts & dancefloors. \nThis year's Fire and Flow Concert which is in its 3rd year promises to be a full Pepper Soup Experience  — a live band preview of our upcoming album.\nThis year’s theme is inspired by our upcoming album project\, “Pepper Soup” — a deeply personal and experimental body of work that explores sound\, identity\, and heat in all its forms. The concert will serve as a live listening experience\, where we share the heart and soul behind the project before it drops. \nExpect new music\, surprise guests\, visual stories\, exclusive merch\, and that Fire & Flow magic. \nDate: Saturday 2nd August 2025\nTime: 7pm\nVenue: Alliance Française d'Accra Amphitheatre \nTickets available *714*11*18#
URL:https://afaccra.org/event/fire-and-flow-3-concert/
LOCATION:Alliance Francaise Accra\, Ghana
CATEGORIES:Culture Events,Event
ATTACH;FMTTYPE=image/jpeg:https://afaccra.org/wp-content/uploads/2025/07/1-1.jpg
END:VEVENT
END:VCALENDAR