BEGIN:VCALENDAR
VERSION:2.0
PRODID:-//Alliance Française Accra - ECPv6.15.11//NONSGML v1.0//EN
CALSCALE:GREGORIAN
METHOD:PUBLISH
X-WR-CALNAME:Alliance Française Accra
X-ORIGINAL-URL:https://afaccra.org
X-WR-CALDESC:Events for Alliance Française Accra
REFRESH-INTERVAL;VALUE=DURATION:PT1H
X-Robots-Tag:noindex
X-PUBLISHED-TTL:PT1H
BEGIN:VTIMEZONE
TZID:UTC
BEGIN:STANDARD
TZOFFSETFROM:+0000
TZOFFSETTO:+0000
TZNAME:UTC
DTSTART:20240101T000000
END:STANDARD
END:VTIMEZONE
BEGIN:VEVENT
DTSTART;TZID=UTC:20250606T180000
DTEND;TZID=UTC:20250606T220000
DTSTAMP:20260423T022230
CREATED:20250615T164603Z
LAST-MODIFIED:20250615T164603Z
UID:55707-1749232800-1749247200@afaccra.org
SUMMARY:World Ocean Day 2025
DESCRIPTION:Join us in celebrating World Environment Day (June 5th) and World Ocean Day (June 8th) 2025! \nTogether\, we can protect the planet that gives us life—from forests to coastlines\, from the air we breathe to the oceans that sustain us. \nThis event is brought to you by the French Embassy in Ghana in partnership with Alliance Française d’Accra and SYND Ghana. \nLet’s come together for clean oceans\, healthy ecosystems\, and a sustainable \nDate: Friday 6th June 2025\nVenue: Seminar Room & La Paillote\, Alliance Française\nTime: 6pm to 10pm
URL:https://afaccra.org/event/world-ocean-day-2025/
LOCATION:Alliance Francaise Accra\, Ghana
CATEGORIES:Culture Events,Event
ATTACH;FMTTYPE=image/png:https://afaccra.org/wp-content/uploads/2025/06/World-Oceans-Day-2025.png
END:VEVENT
BEGIN:VEVENT
DTSTART;TZID=UTC:20250618T130000
DTEND;TZID=UTC:20250618T160000
DTSTAMP:20260423T022230
CREATED:20250615T170739Z
LAST-MODIFIED:20250615T171728Z
UID:55760-1750251600-1750262400@afaccra.org
SUMMARY:Fête de la Musique - Music Seminar
DESCRIPTION:Make Music Day is a global event held annually on June 21st\, celebrating music through\nfree public performances. Originally launched in France as Fête de la Musique\, the Ghana\nedition\, organized by Phasers Acoustics and Alliance Française d’Accra\, promotes local\ntalent and supports music education. \nThis year’s celebration spans a full week\, kicking off on June 18th with a seminar on artist\nmanagement at Alliance Française d’Accra. The festivities will feature live performances at\nAccra Mall\, culminating in a grand finale concert at Alliance Française on June 21st. \nFollowing the success of the ‘Pulsations’ musical relay in 2024\, another relay will be held as\npart of Make Music Day 2025. Each participating country will form a local audience choir to\nperform a song inspired by this year’s theme: "Taking Flight." \nGhana will present “Dadie Anoma” by Kojo Antwi\, followed by a global sing-along of Bob\nMarley’s “Three Little Birds”—uniting voices across the world.\nNo experience required — just come\, listen\, and make music! \nDates: Wednesday\, June 18 to Saturday\, June 21\, 2025 \n• starting with a Seminar on artist management at Alliance Française d'Accra on\nWednesday\, 18th June\, @ 1pm Prompt\n• Live Band/Artist Performances and Jam Sessions at the Accra Mall on the 20th June\,\n11am prompt.\n• and ending with a Grand Live Concert at Alliance Française d'Accra on Saturday\,\n21st June @ 12 - 10pm
URL:https://afaccra.org/event/fete-de-la-musique-make-music-day-seminar/
CATEGORIES:Culture Events,Event
ATTACH;FMTTYPE=image/jpeg:https://afaccra.org/wp-content/uploads/2025/06/MAKE-MUSIC-GHANA_MAIN-ARTMusic-Seminar-scaled.jpg
END:VEVENT
BEGIN:VEVENT
DTSTART;VALUE=DATE:20250620
DTEND;VALUE=DATE:20250621
DTSTAMP:20260423T022230
CREATED:20250615T165737Z
LAST-MODIFIED:20250615T171046Z
UID:55754-1750377600-1750463999@afaccra.org
SUMMARY:Women in Sports
DESCRIPTION:As part of Alliance Française d'Accra's ongoing initiative to champion and support women\nacross a diverse range of professional fields\, we—in partnership with the French Embassy in\nGhana and Institut Français Paris—are proud to celebrate the remarkable achievements of\nwomen whose unwavering resilience in the face of often untold challenges within our local\ncommunities has paved their way into the dynamic world of sports.\nWe invite you to join us at DUNK GRASSROOTS – Jamestown Community Centre\, as we\ncome together to honour the significant accomplishments of these inspiring women in sports. \nThe event will include:\n• A powerful photo exhibition\, Punching Barriers\, by George Koranteng Danso\n• An engaging panel discussion featuring personalities from various sectors\nWe look forward to seeing you there! \nDate: Friday\, 20th June 2025\nVenue: DUNK GRASSROOTS – Jamestown Community Centre.\nTime: 10:00 AM
URL:https://afaccra.org/event/women-in-sports/
LOCATION:DUNK GRASSROOTS - Jamestown Community Centre.\, Jamestown\, Ghana
CATEGORIES:Culture Events,Event
ATTACH;FMTTYPE=image/png:https://afaccra.org/wp-content/uploads/2025/06/WOMEN-IN-SPORTS-2025-SOCIALS-3.png
END:VEVENT
BEGIN:VEVENT
DTSTART;TZID=UTC:20250621T120000
DTEND;TZID=UTC:20250621T220000
DTSTAMP:20260423T022230
CREATED:20250615T170945Z
LAST-MODIFIED:20250615T171003Z
UID:55766-1750507200-1750543200@afaccra.org
SUMMARY:Fête de la Musique - Make Music Day
DESCRIPTION:Make Music Day is a global event held annually on June 21st\, celebrating music through\nfree public performances. Originally launched in France as Fête de la Musique\, the Ghana\nedition\, organized by Phasers Acoustics and Alliance Française d’Accra\, promotes local\ntalent and supports music education. \nThis year’s celebration spans a full week\, kicking off on June 18th with a seminar on artist\nmanagement at Alliance Française d’Accra. The festivities will feature live performances at\nAccra Mall\, culminating in a grand finale concert at Alliance Française on June 21st. \nFollowing the success of the ‘Pulsations’ musical relay in 2024\, another relay will be held as\npart of Make Music Day 2025. Each participating country will form a local audience choir to\nperform a song inspired by this year’s theme: "Taking Flight." \nGhana will present “Dadie Anoma” by Kojo Antwi\, followed by a global sing-along of Bob\nMarley’s “Three Little Birds”—uniting voices across the world.\nNo experience required — just come\, listen\, and make music! \nDates: Wednesday\, June 18 to Saturday\, June 21\, 2025 \n• starting with a Seminar on artist management at Alliance Française d'Accra on\nWednesday\, 18th June\, @ 1pm Prompt\n• Live Band/Artist Performances and Jam Sessions at the Accra Mall on the 20th June\,\n11am prompt.\n• and ending with a Grand Live Concert at Alliance Française d'Accra on Saturday\,\n21st June @ 12 - 10pm
URL:https://afaccra.org/event/fete-de-la-musique-make-music-day/
LOCATION:Alliance Francaise Accra\, Ghana
CATEGORIES:Culture Events,Event
ATTACH;FMTTYPE=image/jpeg:https://afaccra.org/wp-content/uploads/2025/06/MAKE-MUSIC-GHANA_MAIN-ARTSatellite-Event-Flyer--scaled.jpg
END:VEVENT
END:VCALENDAR